BEGIN:VCALENDAR
VERSION:2.0
PRODID:-//Cardiogen - ECPv6.15.18//NONSGML v1.0//EN
CALSCALE:GREGORIAN
METHOD:PUBLISH
X-WR-CALNAME:Cardiogen
X-ORIGINAL-URL:https://www.filiere-cardiogen.fr
X-WR-CALDESC:Évènements pour Cardiogen
REFRESH-INTERVAL;VALUE=DURATION:PT1H
X-Robots-Tag:noindex
X-PUBLISHED-TTL:PT1H
BEGIN:VTIMEZONE
TZID:Europe/Paris
BEGIN:DAYLIGHT
TZOFFSETFROM:+0100
TZOFFSETTO:+0200
TZNAME:CEST
DTSTART:20240331T010000
END:DAYLIGHT
BEGIN:STANDARD
TZOFFSETFROM:+0200
TZOFFSETTO:+0100
TZNAME:CET
DTSTART:20241027T010000
END:STANDARD
BEGIN:DAYLIGHT
TZOFFSETFROM:+0100
TZOFFSETTO:+0200
TZNAME:CEST
DTSTART:20250330T010000
END:DAYLIGHT
BEGIN:STANDARD
TZOFFSETFROM:+0200
TZOFFSETTO:+0100
TZNAME:CET
DTSTART:20251026T010000
END:STANDARD
BEGIN:DAYLIGHT
TZOFFSETFROM:+0100
TZOFFSETTO:+0200
TZNAME:CEST
DTSTART:20260329T010000
END:DAYLIGHT
BEGIN:STANDARD
TZOFFSETFROM:+0200
TZOFFSETTO:+0100
TZNAME:CET
DTSTART:20261025T010000
END:STANDARD
BEGIN:DAYLIGHT
TZOFFSETFROM:+0100
TZOFFSETTO:+0200
TZNAME:CEST
DTSTART:20270328T010000
END:DAYLIGHT
BEGIN:STANDARD
TZOFFSETFROM:+0200
TZOFFSETTO:+0100
TZNAME:CET
DTSTART:20271031T010000
END:STANDARD
END:VTIMEZONE
BEGIN:VTIMEZONE
TZID:Europe/Helsinki
BEGIN:DAYLIGHT
TZOFFSETFROM:+0200
TZOFFSETTO:+0300
TZNAME:EEST
DTSTART:20250330T010000
END:DAYLIGHT
BEGIN:STANDARD
TZOFFSETFROM:+0300
TZOFFSETTO:+0200
TZNAME:EET
DTSTART:20251026T010000
END:STANDARD
BEGIN:DAYLIGHT
TZOFFSETFROM:+0200
TZOFFSETTO:+0300
TZNAME:EEST
DTSTART:20260329T010000
END:DAYLIGHT
BEGIN:STANDARD
TZOFFSETFROM:+0300
TZOFFSETTO:+0200
TZNAME:EET
DTSTART:20261025T010000
END:STANDARD
BEGIN:DAYLIGHT
TZOFFSETFROM:+0200
TZOFFSETTO:+0300
TZNAME:EEST
DTSTART:20270328T010000
END:DAYLIGHT
BEGIN:STANDARD
TZOFFSETFROM:+0300
TZOFFSETTO:+0200
TZNAME:EET
DTSTART:20271031T010000
END:STANDARD
END:VTIMEZONE
BEGIN:VEVENT
DTSTART;VALUE=DATE:20260402
DTEND;VALUE=DATE:20260404
DTSTAMP:20260425T205932
CREATED:20250616T111130Z
LAST-MODIFIED:20251215T083554Z
UID:19545-1775088000-1775260799@www.filiere-cardiogen.fr
SUMMARY:JOURNÉES ANNUELLES NATIONALES CARDIOGEN
DESCRIPTION:Journées à destination des professionnels de santé. \n— \nInscription gratuite mais obligatoire.
URL:https://www.filiere-cardiogen.fr/evenement/journees-annuelles-nationales-cardiogen-2026/
LOCATION:Toulouse
CATEGORIES:Professionnel
END:VEVENT
BEGIN:VEVENT
DTSTART;TZID=Europe/Helsinki:20260219T180000
DTEND;TZID=Europe/Helsinki:20260219T190000
DTSTAMP:20260425T205932
CREATED:20251215T083823Z
LAST-MODIFIED:20251215T083943Z
UID:21292-1771524000-1771527600@www.filiere-cardiogen.fr
SUMMARY:Webinaire PNDS "Prise en charge de la maladie de Fabry"
DESCRIPTION:Présenté par Olivier Lidove ; modéré par Olivier Lairez. \n— \nS’inscrire \n— \nLa filière Cardiogen lance une  série de webinaires mensuels dédiés aux Protocoles Nationaux de Diagnostic et de Soins (PNDS) autour des maladies cardiaques héréditaires ou rares. \nLes Protocoles Nationaux de Diagnostic et de Soins (PNDS) sont des référentiels de bonne pratique portant sur les maladies rares. L’objectif d’un PNDS est d’expliciter aux professionnels concernés la prise en charge diagnostique et thérapeutique optimale et le parcours de soins d’un patient atteint d’une maladie rare donnée. Les PNDS sont élaborés par les Centres de référence et de compétence maladies rares à l’aide d’une méthode proposée par la Haute Autorité de Santé (HAS). » \nChaque mois\, nous vous invitons à découvrir une thématique spécifique\, axée sur une présentation synthétique du document suivie d’un temps d’échange avec les participants. \nCe nouveau support numérique dynamique a pour objectif de faciliter l’accès à ces recommandations et d’ améliorer la prise en charge des patients tout au long de leur parcours de soins. \nIl est  destiné à tous les professionnels de santé désirant découvrir ou approfondir leurs connaissances pratiques des pathologies cardiaques héréditaires ou rares\, qu’ils soient : \n\nProfessionnels de santé exerçant dans les hôpitaux\, rattachés ou non à un centre Cardiogen ;\nProfessionnels de santé exerçant en ville (cardiologues\, généralistes\, etc.).
URL:https://www.filiere-cardiogen.fr/evenement/webinaire-pnds-prise-en-charge-de-la-maladie-de-fabry/
LOCATION:Zoom
END:VEVENT
BEGIN:VEVENT
DTSTART;TZID=Europe/Helsinki:20260129T180000
DTEND;TZID=Europe/Helsinki:20260129T190000
DTSTAMP:20260425T205932
CREATED:20251215T083138Z
LAST-MODIFIED:20251215T083924Z
UID:21283-1769709600-1769713200@www.filiere-cardiogen.fr
SUMMARY:Webinaire PNDS "Prise en charge d'une mort subite chez le sujet jeune"
DESCRIPTION:Présenté par Estelle Gandjbakhch & Vincent Probst ; modéré par Didier Klug. \n— \nS’inscrire \n— \nLa filière Cardiogen lance une  série de webinaires mensuels dédiés aux Protocoles Nationaux de Diagnostic et de Soins (PNDS) autour des maladies cardiaques héréditaires ou rares. \nLes Protocoles Nationaux de Diagnostic et de Soins (PNDS) sont des référentiels de bonne pratique portant sur les maladies rares. L’objectif d’un PNDS est d’expliciter aux professionnels concernés la prise en charge diagnostique et thérapeutique optimale et le parcours de soins d’un patient atteint d’une maladie rare donnée. Les PNDS sont élaborés par les Centres de référence et de compétence maladies rares à l’aide d’une méthode proposée par la Haute Autorité de Santé (HAS). » \nChaque mois\, nous vous invitons à découvrir une thématique spécifique\, axée sur une présentation synthétique du document suivie d’un temps d’échange avec les participants. \nCe nouveau support numérique dynamique a pour objectif de faciliter l’accès à ces recommandations et d’ améliorer la prise en charge des patients tout au long de leur parcours de soins. \nIl est  destiné à tous les professionnels de santé désirant découvrir ou approfondir leurs connaissances pratiques des pathologies cardiaques héréditaires ou rares\, qu’ils soient : \n\nProfessionnels de santé exerçant dans les hôpitaux\, rattachés ou non à un centre Cardiogen ;\nProfessionnels de santé exerçant en ville (cardiologues\, généralistes\, etc.).
URL:https://www.filiere-cardiogen.fr/evenement/webinaire-pnds-prise-en-charge-dune-mort-subite-chez-le-sujet-jeune/
LOCATION:Zoom
END:VEVENT
BEGIN:VEVENT
DTSTART;TZID=Europe/Paris:20251114T130000
DTEND;TZID=Europe/Paris:20251114T170000
DTSTAMP:20260425T205932
CREATED:20250616T111636Z
LAST-MODIFIED:20250616T112407Z
UID:19551-1763125200-1763139600@www.filiere-cardiogen.fr
SUMMARY:MASTERCLASS MALADIE DE FABRY
DESCRIPTION:Évènement 100% digital\, réservé aux professionnels de santé. \nInscription gratuite mais obligatoire.
URL:https://www.filiere-cardiogen.fr/evenement/masterclass-maladie-de-fabry-2/
LOCATION:Distanciel
END:VEVENT
BEGIN:VEVENT
DTSTART;VALUE=DATE:20251107
DTEND;VALUE=DATE:20251108
DTSTAMP:20260425T205932
CREATED:20250616T110624Z
LAST-MODIFIED:20250616T112253Z
UID:19536-1762473600-1762559999@www.filiere-cardiogen.fr
SUMMARY:JOURNÉE EN ETP 2025
DESCRIPTION:Inscription gratuite mais obligatoire.
URL:https://www.filiere-cardiogen.fr/evenement/journee-en-etp-2025/
LOCATION:Paris
CATEGORIES:Professionnel
END:VEVENT
END:VCALENDAR